BEGIN:VCALENDAR
VERSION:2.0
PRODID:-//Hancock County Democrats - ECPv6.15.20//NONSGML v1.0//EN
CALSCALE:GREGORIAN
METHOD:PUBLISH
X-WR-CALNAME:Hancock County Democrats
X-ORIGINAL-URL:https://hancockdems.org
X-WR-CALDESC:Events for Hancock County Democrats
REFRESH-INTERVAL;VALUE=DURATION:PT1H
X-Robots-Tag:noindex
X-PUBLISHED-TTL:PT1H
BEGIN:VTIMEZONE
TZID:America/New_York
BEGIN:DAYLIGHT
TZOFFSETFROM:-0500
TZOFFSETTO:-0400
TZNAME:EDT
DTSTART:20240310T070000
END:DAYLIGHT
BEGIN:STANDARD
TZOFFSETFROM:-0400
TZOFFSETTO:-0500
TZNAME:EST
DTSTART:20241103T060000
END:STANDARD
BEGIN:DAYLIGHT
TZOFFSETFROM:-0500
TZOFFSETTO:-0400
TZNAME:EDT
DTSTART:20250309T070000
END:DAYLIGHT
BEGIN:STANDARD
TZOFFSETFROM:-0400
TZOFFSETTO:-0500
TZNAME:EST
DTSTART:20251102T060000
END:STANDARD
BEGIN:DAYLIGHT
TZOFFSETFROM:-0500
TZOFFSETTO:-0400
TZNAME:EDT
DTSTART:20260308T070000
END:DAYLIGHT
BEGIN:STANDARD
TZOFFSETFROM:-0400
TZOFFSETTO:-0500
TZNAME:EST
DTSTART:20261101T060000
END:STANDARD
END:VTIMEZONE
BEGIN:VEVENT
DTSTART;TZID=America/New_York:20251014T183000
DTEND;TZID=America/New_York:20251014T200000
DTSTAMP:20260420T093837
CREATED:20251002T151217Z
LAST-MODIFIED:20251002T151217Z
UID:2514-1760466600-1760472000@hancockdems.org
SUMMARY:Ellsworth City Council - Meet the Candidates
DESCRIPTION:There are three open seats on the Ellsworth City Council. This is your chance to get informed about who’s running and where they stand. \nMeet the Candidates is an annual\, nonpartisan event that provides an educational platform for the voting residents of Ellsworth. All candidates running for a seat on the Ellsworth City Council are encouraged to participate. Events like this raise awareness of local issues and connect community members to participate in our local democracy. Meet the Candidates 2025 is brought to you by the City of Ellsworth and produced in partnership with The Ellsworth American and Heart of Ellsworth. \nJoin in person at The Grand OR Watch live on the Heart of Ellsworth YouTube channel \nSubmit your questions in advance at news@ellsworthamerican.com or on an index card at the event.
URL:https://hancockdems.org/event/ellsworth-city-council-meet-the-candidates/
LOCATION:The Grand
ATTACH;FMTTYPE=image/jpeg:https://hancockdems.org/wp-content/uploads/ell-meet-candidates-feature.jpg
END:VEVENT
BEGIN:VEVENT
DTSTART;TZID=America/New_York:20251014T190000
DTEND;TZID=America/New_York:20251014T200000
DTSTAMP:20260420T093837
CREATED:20251013T194117Z
LAST-MODIFIED:20251014T105620Z
UID:2571-1760468400-1760472000@hancockdems.org
SUMMARY:Maine Forum on the Rule of Law
DESCRIPTION:Noah Feldman\, renowned Harvard constitutional scholar\, will keynote a forum in Portland at 7 p.m. on October 14: “Standing up for the Rule of Law: How do we save it?” He and the panel will focus on providing practical\, concrete actions for lawyers and non-lawyers to take to resist tyranny and protect our constitutional rule of law. The event will livestream through maineruleoflaw.org (you can click on “subscribe” without supplying money or personal information). \nSpeakers will also include Governor Janet Mills\, Maine Attorney General Aaron Frey\, ACLU of Maine Legal Director Carol Garvan and Maine State Bar Association President Susan Faunce.
URL:https://hancockdems.org/event/maine-forum-on-the-rule-of-law/
LOCATION:Hannaford Hall\, 88 Bedford Street\, Portland\, ME\, 04101
END:VEVENT
BEGIN:VEVENT
DTSTART;TZID=America/New_York:20251015T183000
DTEND;TZID=America/New_York:20251015T193000
DTSTAMP:20260420T093837
CREATED:20251001T204433Z
LAST-MODIFIED:20251001T204433Z
UID:2512-1760553000-1760556600@hancockdems.org
SUMMARY:Question 1 Letter to the Editor Writing Online Workshop
DESCRIPTION:On November 4\, Mainers will vote on two different ballot questions. Question 1 will ask if voters want to enact sweeping changes to Maine’s election laws. The League of Women Voters of Maine opposes Question 1 because it is a form of voter suppression. Learn more about Question 1 here. \nPurpose of this workshop: \nThe Save Maine Absentee Voting campaign is leading the effort against Question 1. One key way to reach Mainers is through local newspapers. We need to inform our communities about Question 1 so that everyone understands what’s at stake. Voting rights\, and absentee voting\, are on the line. The purpose of this workshop is to guide you through the Letter to the Editor (LTE) writing process. \nYou will learn: \n\nHow to write a LTE on Question 1\nHow to submit to your local paper\nHow to encourage others to write LTEs\n\nThis workshop is hosted on Zoom. Registration is required and a Zoom link will be provided after registration. \nRegister for October 7th LTE Writing Workshop. \nRSVP below to receive your Zoom link in order to join.
URL:https://hancockdems.org/event/question-1-letter-to-the-editor-writing-online-workshop-3/
LOCATION:ME
ATTACH;FMTTYPE=image/png:https://hancockdems.org/wp-content/uploads/LTE-workshop.png
END:VEVENT
BEGIN:VEVENT
DTSTART;TZID=America/New_York:20251016T190000
DTEND;TZID=America/New_York:20251016T203000
DTSTAMP:20260420T093837
CREATED:20250904T142524Z
LAST-MODIFIED:20251015T220531Z
UID:2311-1760641200-1760646600@hancockdems.org
SUMMARY:HCDC October Meeting: Candidates Angus King lll and Jordan Wood plus Ann Luther from the League of Women Voters
DESCRIPTION:For our October meeting\, we will welcome two 2026 candidates: Angus King lll\, who is running for governor\, and Jordan Wood\, who is running for the U.S. Senate. We will also have Ann Luther from the League of Women Voters join us for a discussion of the importance of defeating Question 1 (Save Absentee Voting). \nThis month’s meeting will be held both in person at the UU Church in Ellsworth and via Zoom. \nRegister for Zoom. \n\n\nPre-registration required for Zoom attendance by noon the day before the meeting. You will receive a unique link you will need to use to join the meeting.
URL:https://hancockdems.org/event/hdcd-october-meeting-with-angus-king-lll-and-jordan-wood/
LOCATION:Unitarian Universalist Church\, 121 Bucksport Rd\, Ellsworth\, ME\, 04614\, United States
ATTACH;FMTTYPE=image/png:https://hancockdems.org/wp-content/uploads/Oct-meeting.png
END:VEVENT
BEGIN:VEVENT
DTSTART;TZID=America/New_York:20251018T090000
DTEND;TZID=America/New_York:20251018T103000
DTSTAMP:20260420T093837
CREATED:20251016T164721Z
LAST-MODIFIED:20251016T221117Z
UID:2583-1760778000-1760783400@hancockdems.org
SUMMARY:No Kings - Penobscot
DESCRIPTION:We will gather at Penobscot Community School and Town Hall – 66 N. Penobscot Rd \nPlease park at the school and NOT in front of the Town Hall. Bring your signs! We will hear from several guest speakers : Charles Stephens\, Chair of the Hancock County Democratic Committee\, and Abbie McMillen\, activist and source of the Rapid Response alert network.
URL:https://hancockdems.org/event/no-kings-penobscot/
LOCATION:ME
ATTACH;FMTTYPE=image/avif:https://hancockdems.org/wp-content/uploads/SW-no-kings.avif
END:VEVENT
BEGIN:VEVENT
DTSTART;TZID=America/New_York:20251018T110000
DTEND;TZID=America/New_York:20251018T123000
DTSTAMP:20260420T093837
CREATED:20251004T131324Z
LAST-MODIFIED:20251004T131407Z
UID:2527-1760785200-1760790600@hancockdems.org
SUMMARY:SW Harbor Standers-No Kings\, People Power
DESCRIPTION:Join us on MDI as we stand up for democracy.
URL:https://hancockdems.org/event/sw-harbor-standers-no-kings-people-power/
LOCATION:St. John’s Episcopal Church\, 315 Main St\, Southwest Harbor\, ME\, 04679\, United States
ATTACH;FMTTYPE=image/avif:https://hancockdems.org/wp-content/uploads/SW-no-kings.avif
END:VEVENT
BEGIN:VEVENT
DTSTART;TZID=America/New_York:20251018T120000
DTEND;TZID=America/New_York:20251018T130000
DTSTAMP:20260420T093837
CREATED:20251016T132434Z
LAST-MODIFIED:20251016T132434Z
UID:2577-1760788800-1760792400@hancockdems.org
SUMMARY:No Kings Rally - Blue Hill
DESCRIPTION:On Maine Street in front of Town Hall.
URL:https://hancockdems.org/event/no-kings-rally-blue-hill/
LOCATION:ME
ATTACH;FMTTYPE=image/avif:https://hancockdems.org/wp-content/uploads/SW-no-kings.avif
END:VEVENT
BEGIN:VEVENT
DTSTART;TZID=America/New_York:20251018T120000
DTEND;TZID=America/New_York:20251018T130000
DTSTAMP:20260420T093837
CREATED:20251017T125609Z
LAST-MODIFIED:20251017T125609Z
UID:2591-1760788800-1760792400@hancockdems.org
SUMMARY:No Thrones. No Crowns. No Kings. - Stonington
DESCRIPTION:Betsy’s weekly gathering.
URL:https://hancockdems.org/event/no-thrones-no-crowns-no-kings-stonington/
LOCATION:ME
ATTACH;FMTTYPE=image/avif:https://hancockdems.org/wp-content/uploads/SW-no-kings.avif
END:VEVENT
BEGIN:VEVENT
DTSTART;TZID=America/New_York:20251018T120000
DTEND;TZID=America/New_York:20251018T140000
DTSTAMP:20260420T093837
CREATED:20250911T184336Z
LAST-MODIFIED:20251016T202210Z
UID:2396-1760788800-1760796000@hancockdems.org
SUMMARY:We Rise for Democracy Not Kings - Rally & March - Ellsworth
DESCRIPTION:12:00 – 1:30pm: Gather at Ellsworth City Hall parking lot for speakers.\nMarch on Main Street\, on the sidewalk.\nLive music by Big Moose\nDonations will be accepted for future events and Wabanaki Health.\nPeacekeepers and medics will be on site.\n\nWe rise is committed to nonviolence. By participating in a We Rise action\, we commit to peaceful protest. \nFor more information\, contact: hancockcountyactivists@gmail.com or Acadiaaction@gmail.com.
URL:https://hancockdems.org/event/no-kings-2-0/
LOCATION:Ellsworth City Hall\, 1 City Hall Plaza\, Ellsworth\, ME\, 04605\, United States
ATTACH;FMTTYPE=image/png:https://hancockdems.org/wp-content/uploads/we-rise-oct-feature.png
END:VEVENT
BEGIN:VEVENT
DTSTART;TZID=America/New_York:20251018T123000
DTEND;TZID=America/New_York:20251018T133000
DTSTAMP:20260420T093837
CREATED:20251016T220913Z
LAST-MODIFIED:20251017T124443Z
UID:2586-1760790600-1760794200@hancockdems.org
SUMMARY:Solidarity Bucksport  - No Kings Kally
DESCRIPTION:On the Rte. 1 Bridge from Bucksport to Verona Island. Join our weekly peaceful demonstration supporting justice\, human rights\, and Peace. Proudly anti-fascist!
URL:https://hancockdems.org/event/solidarity-bucksport-no-kings-kally/
LOCATION:ME
ATTACH;FMTTYPE=image/avif:https://hancockdems.org/wp-content/uploads/SW-no-kings.avif
END:VEVENT
BEGIN:VEVENT
DTSTART;TZID=America/New_York:20251018T123000
DTEND;TZID=America/New_York:20251018T133000
DTSTAMP:20260420T093837
CREATED:20251017T125725Z
LAST-MODIFIED:20251017T125725Z
UID:2593-1760790600-1760794200@hancockdems.org
SUMMARY:No Thrones. No Crowns. No Kings. - Deer Isle
DESCRIPTION:Gathering at Mill Pond Park.
URL:https://hancockdems.org/event/no-thrones-no-crowns-no-kings-deer-isle/
LOCATION:ME
ATTACH;FMTTYPE=image/avif:https://hancockdems.org/wp-content/uploads/SW-no-kings.avif
END:VEVENT
BEGIN:VEVENT
DTSTART;TZID=America/New_York:20251018T130000
DTEND;TZID=America/New_York:20251018T150000
DTSTAMP:20260420T093837
CREATED:20251016T132618Z
LAST-MODIFIED:20251016T132618Z
UID:2579-1760792400-1760799600@hancockdems.org
SUMMARY:No Kings Rally - Castine
DESCRIPTION:In America\, we don’t put up with would-be kings. Meet at 86 Court Street.
URL:https://hancockdems.org/event/no-kings-rally-castine/
LOCATION:ME
ATTACH;FMTTYPE=image/avif:https://hancockdems.org/wp-content/uploads/SW-no-kings.avif
END:VEVENT
BEGIN:VEVENT
DTSTART;TZID=America/New_York:20251025T100000
DTEND;TZID=America/New_York:20251025T120000
DTSTAMP:20260420T093837
CREATED:20251020T141850Z
LAST-MODIFIED:20251020T141850Z
UID:2640-1761386400-1761393600@hancockdems.org
SUMMARY:Canvass in Ellsworth to Help Save Voting Rights - Bring a Friend!
DESCRIPTION:In November\, Mainers will face Question 1\, a critical referendum that will dismantle our popular absentee voting program — a cornerstone of accessible elections in our state. \nJoin us in Ellsworth as we work to canvass our friends and neighbors and fight back against this voter suppression referendum. \nWe’ll meet at the HCDC headquarters on Church St. at 10:00am.
URL:https://hancockdems.org/event/canvass-in-ellsworth-to-help-save-voting-rights-bring-a-friend/
LOCATION:HCDC Office\, 53 Church Street\, Ellsworth\, ME\, 04605\, United States
ATTACH;FMTTYPE=image/png:https://hancockdems.org/wp-content/uploads/featured-images-canvassing.png
END:VEVENT
BEGIN:VEVENT
DTSTART;TZID=America/New_York:20251101T100000
DTEND;TZID=America/New_York:20251101T120000
DTSTAMP:20260420T093837
CREATED:20251020T142002Z
LAST-MODIFIED:20251020T142002Z
UID:2642-1761991200-1761998400@hancockdems.org
SUMMARY:Canvass in Ellsworth to Help Save Voting Rights - Bring a Friend!
DESCRIPTION:In November\, Mainers will face Question 1\, a critical referendum that will dismantle our popular absentee voting program — a cornerstone of accessible elections in our state. \nJoin us in Ellsworth as we work to canvass our friends and neighbors and fight back against this voter suppression referendum. \nWe’ll meet at the HCDC headquarters on Church St. at 10:00am.
URL:https://hancockdems.org/event/canvass-in-ellsworth-to-help-save-voting-rights-bring-a-friend-2/
LOCATION:HCDC Office\, 53 Church Street\, Ellsworth\, ME\, 04605\, United States
ATTACH;FMTTYPE=image/png:https://hancockdems.org/wp-content/uploads/featured-images-canvassing.png
END:VEVENT
BEGIN:VEVENT
DTSTART;TZID=America/New_York:20251101T130000
DTEND;TZID=America/New_York:20251101T160000
DTSTAMP:20260420T093837
CREATED:20251030T163934Z
LAST-MODIFIED:20251030T165042Z
UID:2655-1762002000-1762012800@hancockdems.org
SUMMARY:Save Absentee Voting Weekend of Action in Ellsworth - with Graham Platner
DESCRIPTION:Graham will be joining us on Saturday! \nLocation: 6 State St. Ellsworth \nJoin Graham and his team to knock doors in your community to get out the vote for No on 1! \nOnce signed up\, our team will reach out and invite you to your canvassing team where you’ll be trained and given materials to take action. \nSign up here.
URL:https://hancockdems.org/event/save-absentee-voting-weekend-of-action-in-ellsworth-with-graham-platner/
LOCATION:Graham Platner Headquarters\, 6 State Street\, Ellsworth\, ME\, 04605\, United States
ATTACH;FMTTYPE=image/avif:https://hancockdems.org/wp-content/uploads/weekend-of-action.avif
END:VEVENT
BEGIN:VEVENT
DTSTART;TZID=America/New_York:20251101T130000
DTEND;TZID=America/New_York:20251101T160000
DTSTAMP:20260420T093837
CREATED:20251030T164608Z
LAST-MODIFIED:20251030T165152Z
UID:2663-1762002000-1762012800@hancockdems.org
SUMMARY:Save Absentee Voting Weekend of Action in Bar Harbor
DESCRIPTION:Location Sweet Peas Cafe Bldg 854 ME-3 \nJoin Graham Platner’s team to knock doors to Save Absentee Voting. Training will be provide before heading out! \nSign up here.
URL:https://hancockdems.org/event/save-absentee-voting-weekend-of-action-in-bar-harbor/
LOCATION:Sweet Pea’s Cafe\, 854 ME-3\, Bar Harbor\, ME\, 04609\, United States
ATTACH;FMTTYPE=image/avif:https://hancockdems.org/wp-content/uploads/weekend-of-action.avif
END:VEVENT
BEGIN:VEVENT
DTSTART;TZID=America/New_York:20251101T150000
DTEND;TZID=America/New_York:20251101T173000
DTSTAMP:20260420T093837
CREATED:20251004T120202Z
LAST-MODIFIED:20251005T123835Z
UID:2522-1762009200-1762018200@hancockdems.org
SUMMARY:Tee Shirt Expression Jam Session at Atlantic Art Glass Studio
DESCRIPTION:Got something to say? Are you frustrated with the status of democracy? Join us at our Tee-shirt Expression Jam Session Nov 1\, 3:00-5:30 at Atlantic Art Glass Studio: 25 Pine St\, in Ellsworth. Stay for music at Fogtown starting at 5:30. \nThe event is offered in a do-it-yourself spirit\, but with some assistance and supplies. Bring your ideas and your own cloth patch or clothing to print or select from donations. Post-cards and poster materials are also available for stenciling and stamping. Volunteer artists will be on hand to assist you in designing and printing your views on a given topic\, for example: democracy\, due-process\, voting rights\, civil rights\, freedom of speech. Art supplies including stencils\, brushes\, roller\, and inks will be available\, along with donated tee-shirts and patches in various sizes. \nThe organizers of this all-age event are interested in giving voice to younger citizens and forging an ongoing intergenerational community\, connecting arts with the needs of the moment. Join us as we brainstorm\, socialize and have fun visualizing and expressing our views at a time when our voices matter more than ever. \nSponsors include: Artsworth and Fogtown Brewing. No experience needed! Artist volunteers are welcome to join! To donate a blank tee-shirt or sweatshirt for the event\, bring it to Fogtown or Atlantic Art Glass Studio during open hours. \nVisit: artsworth.org and fogtownbrewing.com/events
URL:https://hancockdems.org/event/tee-shirt-expression-jam-session-at-atlantic-art-glass-studio/
LOCATION:Atlantic Art Glass\, 25 Pine Street\, Ellsworth\, ME\, 04605\, United States
ATTACH;FMTTYPE=image/jpeg:https://hancockdems.org/wp-content/uploads/tee-shirt-event-feature-scaled.jpg
END:VEVENT
BEGIN:VEVENT
DTSTART;TZID=America/New_York:20251102T130000
DTEND;TZID=America/New_York:20251102T160000
DTSTAMP:20260420T093837
CREATED:20251030T164121Z
LAST-MODIFIED:20251030T165003Z
UID:2660-1762088400-1762099200@hancockdems.org
SUMMARY:Save Absentee Voting Weekend of Action in Ellsworth
DESCRIPTION:Location: 6 State St. Ellsworth \nJoin Graham Platner’s team to knock doors in your community to get out the vote for No on 1! \nOnce signed up\, our team will reach out and invite you to your canvassing team where you’ll be trained and given materials to take action. \nSign up here.
URL:https://hancockdems.org/event/save-absentee-voting-weekend-of-action-in-ellsworth/
LOCATION:Graham Platner Headquarters\, 6 State Street\, Ellsworth\, ME\, 04605\, United States
ATTACH;FMTTYPE=image/avif:https://hancockdems.org/wp-content/uploads/weekend-of-action.avif
END:VEVENT
BEGIN:VEVENT
DTSTART;TZID=America/New_York:20251102T130000
DTEND;TZID=America/New_York:20251102T160000
DTSTAMP:20260420T093837
CREATED:20251030T164803Z
LAST-MODIFIED:20251030T164803Z
UID:2666-1762088400-1762099200@hancockdems.org
SUMMARY:Save Absentee Voting Weekend of Action in Bar Harbor
DESCRIPTION:Location Sweet Peas Cafe Bldg 854 ME-3 \nJoin Graham Platner’s team to knock doors to Save Absentee Voting. Training will be provide before heading out! \nSign up here.
URL:https://hancockdems.org/event/save-absentee-voting-weekend-of-action-in-bar-harbor-2/
LOCATION:Sweet Pea’s Cafe\, 854 ME-3\, Bar Harbor\, ME\, 04609\, United States
ATTACH;FMTTYPE=image/avif:https://hancockdems.org/wp-content/uploads/weekend-of-action.avif
END:VEVENT
BEGIN:VEVENT
DTSTART;TZID=America/New_York:20251104T060000
DTEND;TZID=America/New_York:20251104T200000
DTSTAMP:20260420T093837
CREATED:20251020T125200Z
LAST-MODIFIED:20251020T125238Z
UID:2607-1762236000-1762286400@hancockdems.org
SUMMARY:Election Day
DESCRIPTION:If you haven’t already\, please remember to vote today!
URL:https://hancockdems.org/event/voting-day/
LOCATION:ME
ATTACH;FMTTYPE=image/png:https://hancockdems.org/wp-content/uploads/Facebook-Cover.png
END:VEVENT
BEGIN:VEVENT
DTSTART;TZID=America/New_York:20251106T180000
DTEND;TZID=America/New_York:20251106T200000
DTSTAMP:20260420T093837
CREATED:20251104T142410Z
LAST-MODIFIED:20251104T142410Z
UID:2689-1762452000-1762459200@hancockdems.org
SUMMARY:Artivism in Maine - InhuMAINE: Film & Discussion
DESCRIPTION:Rogan O’Donnell\, MS\, is a Clinical Mental Health Counseling\, founder of Common Ground Friends—a 501(c)(3) behavioral and mental health nonprofit—and the documentarian behind InhuMAINE\, a 78-minute feature-length film exploring homelessness\, behavioral\, mental\, and physical health issues\, resilience\, and systemic neglect in Bangor\, Maine\, a microcosum to the country. \nWith over three decades in recovery and extensive experience in co-occurring behavioral and mental health\, O’Donnell integrates existential trauma-informed\, person-centered\, and humanistic approaches in both clinical and community settings. His work bridges counseling\, social entrepreneurship\, and advocacy—merging ACA ethics with narrative practice to humanize marginalized populations and foster systems change. \nThrough InhuMAINE and his clinical training\, O’Donnell models an integrative path of ethical engagement\, empathy\, and social responsibility\, inviting all of us to view helping relationships as both personal and systemic acts of compassion. \nInhuMAINE is a 78-minute feature documentary filmed over 19 months that reveals the intersection of homelessness\, mental illness\, addiction\, and stigma in Bangor\, Maine. This session integrates counseling theory with documentary storytelling to explore how trauma-informed\, narrative-based\, and system-level interventions promote healing and advocacy. Through selected film clips\, clinical reflection\, and discussion\, participants will examine ethical dilemmas\, resilience narratives\, and collaborative care across behavioral and mental health. Grounded in ACA ethical principles and CACREP standards\, InhuMAINE provides a framework for seeing\, hearing\, and honoring those too often rendered invisible.
URL:https://hancockdems.org/event/artivism-in-maine-inhumaine-film-discussion/
LOCATION:The Grand
END:VEVENT
BEGIN:VEVENT
DTSTART;TZID=America/New_York:20251107T190000
DTEND;TZID=America/New_York:20251107T210000
DTSTAMP:20260420T093837
CREATED:20251104T143037Z
LAST-MODIFIED:20251104T143037Z
UID:2691-1762542000-1762549200@hancockdems.org
SUMMARY:Artivism in Maine: Freedom & Justice Summit: Part 1 – Our Youth Our Future
DESCRIPTION:Award winning film maker Michelle Esrick of “Cracked Up” introduced by Keith Garde (manager of Aerosmith). Performances of youth dance\, poetry\, music\, and speakers.
URL:https://hancockdems.org/event/artivism-in-maine-freedom-justice-summit-part-1-our-youth-our-future/
LOCATION:The Grand
END:VEVENT
BEGIN:VEVENT
DTSTART;TZID=America/New_York:20251108T130000
DTEND;TZID=America/New_York:20251108T150000
DTSTAMP:20260420T093837
CREATED:20251104T143555Z
LAST-MODIFIED:20251104T143555Z
UID:2695-1762606800-1762614000@hancockdems.org
SUMMARY:Artivism in Maine: Freedom & Captivity - It's Hard to talk about
DESCRIPTION:Stories of incarceration in Maine.
URL:https://hancockdems.org/event/artivism-in-maine-freedom-captivity-its-hard-to-talk-about/
LOCATION:The Grand
END:VEVENT
BEGIN:VEVENT
DTSTART;TZID=America/New_York:20251108T180000
DTEND;TZID=America/New_York:20251108T200000
DTSTAMP:20260420T093837
CREATED:20251104T143422Z
LAST-MODIFIED:20251104T143422Z
UID:2693-1762624800-1762632000@hancockdems.org
SUMMARY:Artivism in Maine: Freedom & Justice Summit: Our Past. Our Present
DESCRIPTION:Lady Brion\, The Somes Sound\, The Gawler Sisters\, Val Porter and more.
URL:https://hancockdems.org/event/artivism-in-maine-freedom-justice-summit-our-past-our-present/
LOCATION:The Grand
END:VEVENT
BEGIN:VEVENT
DTSTART;TZID=America/New_York:20251109T140000
DTEND;TZID=America/New_York:20251109T153000
DTSTAMP:20260420T093837
CREATED:20251104T141946Z
LAST-MODIFIED:20251104T142204Z
UID:2685-1762696800-1762702200@hancockdems.org
SUMMARY:Waldo County DC Forum: What it Means to Be an American
DESCRIPTION:Join the Waldo County Democratic Committee for a forum exploring what “liberty and justice for all” means in today’s society\, organized and hosted by their Diversity\, Equity\, Inclusion\, Belonging Committee. \nAttend in person at the Belfast Free Library or on Zoom by preregistering at here.
URL:https://hancockdems.org/event/waldo-county-dc-forum-what-it-means-to-be-an-american/
LOCATION:Belfast Free Library\, 106 High St.\, Belfast\, ME\, 04915
ATTACH;FMTTYPE=image/png:https://hancockdems.org/wp-content/uploads/Screen-Shot-2025-11-04-at-9.11.08-AM.png
END:VEVENT
BEGIN:VEVENT
DTSTART;TZID=America/New_York:20251114T190000
DTEND;TZID=America/New_York:20251114T210000
DTSTAMP:20260420T093837
CREATED:20251001T140452Z
LAST-MODIFIED:20251001T140553Z
UID:2489-1763146800-1763154000@hancockdems.org
SUMMARY:2025 Blue Wave Gala
DESCRIPTION:The Maine Democratic Party’s 2025 Blue Wave Gala will bring together Democratic leaders\, activists\, and supporters to celebrate progress and build the resources needed to launch the 2026 cycle. This year’s Gala will be especially exciting—a formal evening with dinner and inspiring keynote speeches from Governor JB Pritzker\, DNC Vice Chair Malcolm Kenyatta\, January 6th hero Harry Dunn\, and Maine Democratic Party Chair Charlie Dingman. \nBefore the Gala\, we’re offering two exclusive pre-gala receptions featuring our 2026 candidates: \n\nBack to the Blaine House – 5 PM – Meet Maine’s Democratic gubernatorial hopefuls.\nSusan Collins’ Retirement Party – 6 PM – Meet the Democratic U.S. Senate field.\n\nEach event is ticketed separately. You can attend just the Gala\, just one of the receptions\, or any combination—the choice is yours. \nGrab your ticket here: mainedems.org/gala \n 
URL:https://hancockdems.org/event/2025-blue-wave-gala/
LOCATION:Portland Regency Hotel\, 20 Milk Street\, Portland\, ME\, 04101
ATTACH;FMTTYPE=image/png:https://hancockdems.org/wp-content/uploads/blue-wave-gala.png
END:VEVENT
BEGIN:VEVENT
DTSTART;TZID=America/New_York:20251115T153000
DTEND;TZID=America/New_York:20251115T163000
DTSTAMP:20260420T093837
CREATED:20251108T203153Z
LAST-MODIFIED:20251108T203153Z
UID:2718-1763220600-1763224200@hancockdems.org
SUMMARY:Graham in Bucksport! Town Hall at Edward K. Arey Community Center
DESCRIPTION:Graham Platner will hold a Town Hall at Edward K. Arey Community Center 3:30pm-4:30pm on Saturday\, Nov 15th. Come out\, ask questions\, and bring a friend or three. \nPlease bring canned or dried goods for area food banks if you can. \nSign up to attend.
URL:https://hancockdems.org/event/graham-in-bucksport-town-hall-at-edward-k-arey-community-center/
LOCATION:Edward K. Arey Community Center\, 1160 River Rd\, Bucksport\, ME\, 04416
ATTACH;FMTTYPE=image/jpeg:https://hancockdems.org/wp-content/uploads/2025/08/platner-town-hall.jpg
END:VEVENT
BEGIN:VEVENT
DTSTART;TZID=America/New_York:20251117T120000
DTEND;TZID=America/New_York:20251117T130000
DTSTAMP:20260420T093837
CREATED:20251112T150249Z
LAST-MODIFIED:20251112T150430Z
UID:2725-1763380800-1763384400@hancockdems.org
SUMMARY:The ABC's of Undermining Capitalism: Agitation\, Base Building & Community Empowerment
DESCRIPTION:Join a virtual discussion with author & organizer\, Roderick Douglass\, Monday\, Nov. 17th\, 12-1pm EST. \nLink to join meeting: tinyurl.com/rosczoom
URL:https://hancockdems.org/event/abcs-of-undermining-capitalism/
LOCATION:ME
ATTACH;FMTTYPE=image/png:https://hancockdems.org/wp-content/uploads/under-cap-feature.png
END:VEVENT
BEGIN:VEVENT
DTSTART;TZID=America/New_York:20251120T173000
DTEND;TZID=America/New_York:20251120T184500
DTSTAMP:20260420T093837
CREATED:20251009T130926Z
LAST-MODIFIED:20251009T131020Z
UID:2553-1763659800-1763664300@hancockdems.org
SUMMARY:Hancock County Municipal Leaders Meeting
DESCRIPTION:Hancock County Municipal Leaders will gather at the HCDC office before the monthly meeting to share ideas about what we’re doing in our towns and regions.
URL:https://hancockdems.org/event/hancock-county-municipal-leaders-meeting/
LOCATION:HCDC Office\, 53 Church Street\, Ellsworth\, ME\, 04605\, United States
ATTACH;FMTTYPE=image/png:https://hancockdems.org/wp-content/uploads/2025/08/website-default-image.png
END:VEVENT
BEGIN:VEVENT
DTSTART;TZID=America/New_York:20251120T190000
DTEND;TZID=America/New_York:20251120T203000
DTSTAMP:20260420T093837
CREATED:20250904T144150Z
LAST-MODIFIED:20251119T124347Z
UID:2317-1763665200-1763670600@hancockdems.org
SUMMARY:HDCD November Meeting: Phil Bailey's Building Bridges workshop
DESCRIPTION:After some brief business\, Phil Bailey will take over to lead A Depolarizing Within workshop which teaches us to look at our own attitudes towards the political “other\,” and develop strategies for engaging in politics without demonizing those we disagree with. We will look at methods for constructively intervening in conversations with like-minded peers when those conversations stereotype or demonize the other side. \nGoals\n\nBecome more aware of your own “inner polarizer.”\nLearn how to criticize viewpoints without stereotyping\, dismissing\, ridiculing\, and holding contempt for those who disagree with us.\nDevelop ways to speak up in polarizing conversations with peers about people on the other political side.\n\nWhat to Expect\nYou will do a self-assessment exercise\, learn to counteract the inner polarizer\, and practice communication skills to avoid polarizing conversations. There will be break out sessions both in person and on Zoom. \nThis month’s meeting will be held both in person at the Moore Community Center and via Zoom. \n\n\nPre-registration required for Zoom attendance by noon the day before the meeting. You will receive a unique link you will need to use to join the meeting. \nRegister to attend by Zoom.
URL:https://hancockdems.org/event/hdcd-november-2025-meeting/
LOCATION:Moore Community Center\, 125 State Street\, Ellsworth\, ME\, 04605\, United States
ATTACH;FMTTYPE=image/png:https://hancockdems.org/wp-content/uploads/2025/08/website-default-image.png
END:VEVENT
END:VCALENDAR